Workbook

Sheet 明細
A1: 日付 | B1: 店舗 | C1: 商品 | D1: 数量 | E1: 単価 | F1: 売上 | H1: ※架空のカフェチェーン（3店舗・2026年4月）のデータです。実在の企業・店舗とは関係ありません。
A2: 46113 | B2: 駅前店 | C2: カフェラテ | D2: 13 | E2: 480 | F2: =D2*E2
A3: 46113 | B3: 駅前店 | C3: クッキー | D3: 27 | E3: 250 | F3: =D3*E3
A4: 46115 | B4: 郊外店 | C4: コーヒー | D4: 5 | E4: 400 | F4: =D4*E4
A5: 46115 | B5: 郊外店 | C5: サンドイッチ | D5: 27 | E5: 520 | F5: =D5*E5
A6: 46116 | B6: 駅前店 | C6: カフェラテ | D6: 16 | E6: 480 | F6: =D6*E6
A7: 46116 | B7: 大学前店 | C7: コーヒー | D7: 19 | E7: 400 | F7: =D7*E7
A8: 46117 | B8: 郊外店 | C8: カフェラテ | D8: 21 | E8: 480 | F8: =D8*E8
A9: 46117 | B9: 郊外店 | C9: ケーキ | D9: 20 | E9: 450 | F9: =D9*E9
A10: 46118 | B10: 駅前店 | C10: ケーキ | D10: 27 | E10: 450 | F10: =D10*E10
A11: 46118 | B11: 郊外店 | C11: カフェラテ | D11: 28 | E11: 480 | F11: =D11*E11
A12: 46119 | B12: 駅前店 | C12: クッキー | D12: 22 | E12: 250 | F12: =D12*E12
A13: 46119 | B13: 郊外店 | C13: クッキー | D13: 4 | E13: 250 | F13: =D13*E13
... A61: 46142 | B61: 駅前店 | C61: ケーキ | D61: 29 | E61: 450 | F61: =D61*E61

Sheet 集計（空欄）
A1: 店舗別・商品別の売上集計（2026年4月）
A2: ※架空データ。黄色のセルに数式を入れて集計しましょう（SUMIFS・SUM を使用）。
A4: 表1 店舗×商品の売上（円）
A5: 店舗 ＼ 商品 | B5: コーヒー | C5: カフェラテ | D5: サンドイッチ | E5: ケーキ | F5: クッキー | G5: 店舗合計
A6: 駅前店
A7: 大学前店
A8: 郊外店
A9: 商品合計
A11: 表2 店舗別の売上構成比
A12: 店舗 | B12: 売上合計 | C12: 構成比
A13: 駅前店
A14: 大学前店
A15: 郊外店
A16: 合計
A18: 気づきメモ（どの店舗・商品が売上を支えているか、2〜3行で）

Sheet 解答例
A1: 店舗別・商品別の売上集計（2026年4月）
A2: ※架空データ。数式の例です。同じ結果ならピボットテーブルで集計しても構いません。
A4: 表1 店舗×商品の売上（円）
A5: 店舗 ＼ 商品 | B5: コーヒー | C5: カフェラテ | D5: サンドイッチ | E5: ケーキ | F5: クッキー | G5: 店舗合計
A6: 駅前店 | B6: =SUMIFS(明細!$F$2:$F$61,明細!$B$2:$B$61,$A6,明細!$C$2:$C$61,B$5) | C6: =SUMIFS(明細!$F$2:$F$61,明細!$B$2:$B$61,$A6,明細!$C$2:$C$61,C$5) | D6: =SUMIFS(明細!$F$2:$F$61,明細!$B$2:$B$61,$A6,明細!$C$2:$C$61,D$5) | E6: =SUMIFS(明細!$F$2:$F$61,明細!$B$2:$B$61,$A6,明細!$C$2:$C$61,E$5) | F6: =SUMIFS(明細!$F$2:$F$61,明細!$B$2:$B$61,$A6,明細!$C$2:$C$61,F$5) | G6: =SUM(B6:F6)
A7: 大学前店 | B7: =SUMIFS(明細!$F$2:$F$61,明細!$B$2:$B$61,$A7,明細!$C$2:$C$61,B$5) | C7: =SUMIFS(明細!$F$2:$F$61,明細!$B$2:$B$61,$A7,明細!$C$2:$C$61,C$5) | D7: =SUMIFS(明細!$F$2:$F$61,明細!$B$2:$B$61,$A7,明細!$C$2:$C$61,D$5) | E7: =SUMIFS(明細!$F$2:$F$61,明細!$B$2:$B$61,$A7,明細!$C$2:$C$61,E$5) | F7: =SUMIFS(明細!$F$2:$F$61,明細!$B$2:$B$61,$A7,明細!$C$2:$C$61,F$5) | G7: =SUM(B7:F7)
A8: 郊外店 | B8: =SUMIFS(明細!$F$2:$F$61,明細!$B$2:$B$61,$A8,明細!$C$2:$C$61,B$5) | C8: =SUMIFS(明細!$F$2:$F$61,明細!$B$2:$B$61,$A8,明細!$C$2:$C$61,C$5) | D8: =SUMIFS(明細!$F$2:$F$61,明細!$B$2:$B$61,$A8,明細!$C$2:$C$61,D$5) | E8: =SUMIFS(明細!$F$2:$F$61,明細!$B$2:$B$61,$A8,明細!$C$2:$C$61,E$5) | F8: =SUMIFS(明細!$F$2:$F$61,明細!$B$2:$B$61,$A8,明細!$C$2:$C$61,F$5) | G8: =SUM(B8:F8)
A9: 商品合計 | B9: =SUM(B6:B8) | C9: =SUM(C6:C8) | D9: =SUM(D6:D8) | E9: =SUM(E6:E8) | F9: =SUM(F6:F8) | G9: =SUM(G6:G8)
A11: 表2 店舗別の売上構成比
A12: 店舗 | B12: 売上合計 | C12: 構成比
A13: 駅前店 | B13: =G6 | C13: =B13/$B$16
A14: 大学前店 | B14: =G7 | C14: =B14/$B$16
A15: 郊外店 | B15: =G8 | C15: =B15/$B$16
A16: 合計 | B16: =SUM(B13:B15) | C16: =SUM(C13:C15)
A18: 気づきメモ（どの店舗・商品が売上を支えているか、2〜3行で）
A19: （例）売上の大きい店舗と、どの店舗でも売れている商品を確認し、差が大きい組み合わせについて理由の仮説を書く。
